BEGIN:VCALENDAR
VERSION:2.0
PRODID:-//Dawson Creek Community Band - ECPv6.15.20//NONSGML v1.0//EN
CALSCALE:GREGORIAN
METHOD:PUBLISH
X-WR-CALNAME:Dawson Creek Community Band
X-ORIGINAL-URL:https://www.kiwaniscommunityband.org
X-WR-CALDESC:Events for Dawson Creek Community Band
REFRESH-INTERVAL;VALUE=DURATION:PT1H
X-Robots-Tag:noindex
X-PUBLISHED-TTL:PT1H
BEGIN:VTIMEZONE
TZID:America/Dawson_Creek
BEGIN:STANDARD
TZOFFSETFROM:-0700
TZOFFSETTO:-0700
TZNAME:MST
DTSTART:20250101T000000
END:STANDARD
END:VTIMEZONE
BEGIN:VEVENT
DTSTART;TZID=America/Dawson_Creek:20260509T190000
DTEND;TZID=America/Dawson_Creek:20260509T190000
DTSTAMP:20260422T081028
CREATED:20260421T035508Z
LAST-MODIFIED:20260421T035621Z
UID:3197-1778353200-1778353200@www.kiwaniscommunityband.org
SUMMARY:Old School Saturday Night 2026
DESCRIPTION:
URL:https://www.kiwaniscommunityband.org/event/old-school-saturday-night-2026/
LOCATION:Sudeten Hall\, 1901 Alaska Hwy\, Dawson Creek\, BC\, V1G 2G6\, Canada
ATTACH;FMTTYPE=image/jpeg:https://www.kiwaniscommunityband.org/wp-content/uploads/2026/04/670156316_2799692780379961_2570862639134620922_n.jpg
END:VEVENT
END:VCALENDAR